BEGIN:VCALENDAR
VERSION:2.0
PRODID:-//Gracie Mae Events - ECPv6.15.18//NONSGML v1.0//EN
CALSCALE:GREGORIAN
METHOD:PUBLISH
X-WR-CALNAME:Gracie Mae Events
X-ORIGINAL-URL:https://graciemaeevents.com
X-WR-CALDESC:Events for Gracie Mae Events
REFRESH-INTERVAL;VALUE=DURATION:PT1H
X-Robots-Tag:noindex
X-PUBLISHED-TTL:PT1H
BEGIN:VTIMEZONE
TZID:America/Indiana/Indianapolis
BEGIN:DAYLIGHT
TZOFFSETFROM:-0500
TZOFFSETTO:-0400
TZNAME:EDT
DTSTART:20240310T070000
END:DAYLIGHT
BEGIN:STANDARD
TZOFFSETFROM:-0400
TZOFFSETTO:-0500
TZNAME:EST
DTSTART:20241103T060000
END:STANDARD
BEGIN:DAYLIGHT
TZOFFSETFROM:-0500
TZOFFSETTO:-0400
TZNAME:EDT
DTSTART:20250309T070000
END:DAYLIGHT
BEGIN:STANDARD
TZOFFSETFROM:-0400
TZOFFSETTO:-0500
TZNAME:EST
DTSTART:20251102T060000
END:STANDARD
BEGIN:DAYLIGHT
TZOFFSETFROM:-0500
TZOFFSETTO:-0400
TZNAME:EDT
DTSTART:20260308T070000
END:DAYLIGHT
BEGIN:STANDARD
TZOFFSETFROM:-0400
TZOFFSETTO:-0500
TZNAME:EST
DTSTART:20261101T060000
END:STANDARD
END:VTIMEZONE
BEGIN:VEVENT
DTSTART;TZID=America/Indiana/Indianapolis:20250214T140000
DTEND;TZID=America/Indiana/Indianapolis:20250214T180000
DTSTAMP:20260421T092928
CREATED:20250204T131428Z
LAST-MODIFIED:20250204T131428Z
UID:10000055-1739541600-1739556000@graciemaeevents.com
SUMMARY:Sunny Daze Mobile Flower Pick-Up
DESCRIPTION:The Sunny Daze Mobile Bar will be providing a flower pick-up service and selling designer choice flowers for Gracie Mae!
URL:https://graciemaeevents.com/event/sunny-daze-mobile-flower-pick-up/
LOCATION:Sherwin Williams Paint Store\, 2920 N National Rd\, Columbus\, IN\, 47201
END:VEVENT
END:VCALENDAR